BEGIN:VCALENDAR
VERSION:2.0
PRODID:-//wp-events-plugin.com//7.2.3.1//EN
BEGIN:VEVENT
UID:304@gofm.org
DTSTART:20250608T000000Z
DTEND:20250608T000000Z
DTSTAMP:20250311T231336Z
URL:https://gofm.org/events/yae-day/
SUMMARY:YAE Day
DESCRIPTION:
END:VEVENT
END:VCALENDAR