BEGIN:VCALENDAR
VERSION:2.0
PRODID:-//wp-events-plugin.com//7.2.3.1//EN
BEGIN:VEVENT
UID:266@gofm.org
DTSTART:20250118T100000Z
DTEND:20250118T140000Z
DTSTAMP:20250309T194227Z
URL:https://gofm.org/events/yae-community-closet/
SUMMARY:YAE Community Closet
DESCRIPTION:
END:VEVENT
END:VCALENDAR