BEGIN:VCALENDAR
VERSION:2.0
PRODID:-//wp-events-plugin.com//7.2.3.1//EN
BEGIN:VEVENT
UID:329@gofm.org
DTSTART:20250914T000000Z
DTEND:20250914T000000Z
DTSTAMP:20250312T014012Z
URL:https://gofm.org/events/yae-college-day-and-cookout/
SUMMARY:YAE College Day and Cookout
DESCRIPTION:
CATEGORIES:Gates of Faith Ministries
END:VEVENT
END:VCALENDAR