BEGIN:VCALENDAR
VERSION:2.0
PRODID:-//wp-events-plugin.com//7.2.3.1//EN
BEGIN:VEVENT
UID:269@gofm.org
DTSTART:20250131T180000Z
DTEND:20250131T200000Z
DTSTAMP:20250309T194631Z
URL:https://gofm.org/events/worship-and-warfare-fellowship-and-game-night/
SUMMARY:Worship and Warfare Fellowship and Game Night
DESCRIPTION:
END:VEVENT
END:VCALENDAR