BEGIN:VCALENDAR
VERSION:2.0
PRODID:-//wp-events-plugin.com//7.2.3.1//EN
BEGIN:VEVENT
UID:281@gofm.org
DTSTART:20250310T000000Z
DTEND:20250310T000000Z
DTSTAMP:20250309T201121Z
URL:https://gofm.org/events/women-perfecting-women/
SUMMARY:Women Perfecting Women
DESCRIPTION:
END:VEVENT
END:VCALENDAR