BEGIN:VCALENDAR
VERSION:2.0
PRODID:-//wp-events-plugin.com//7.2.3.1//EN
BEGIN:VEVENT
UID:305@gofm.org
DTSTART:20250609T000000Z
DTEND:20250609T000000Z
DTSTAMP:20250311T231426Z
URL:https://gofm.org/events/women-perfecting-women-wpw/
SUMMARY:Women Perfecting Women (WPW)
DESCRIPTION:
END:VEVENT
END:VCALENDAR