BEGIN:VCALENDAR
VERSION:2.0
PRODID:-//wp-events-plugin.com//7.2.3.1//EN
BEGIN:VEVENT
UID:274@gofm.org
DTSTART:20250214T000000Z
DTEND:20250214T000000Z
DTSTAMP:20250309T195924Z
URL:https://gofm.org/events/valentines-day/
SUMMARY:Valentine's Day
DESCRIPTION:
END:VEVENT
END:VCALENDAR