BEGIN:VCALENDAR
VERSION:2.0
PRODID:-//wp-events-plugin.com//7.2.3.1//EN
BEGIN:VEVENT
UID:309@gofm.org
DTSTART:20250625T000000Z
DTEND:20250627T000000Z
DTSTAMP:20250311T232052Z
URL:https://gofm.org/events/vacation-bible-school-vbs/
SUMMARY:Vacation Bible School (VBS)
DESCRIPTION:
END:VEVENT
END:VCALENDAR