BEGIN:VCALENDAR
VERSION:2.0
PRODID:-//wp-events-plugin.com//7.2.3.1//EN
BEGIN:VEVENT
UID:380@gofm.org
DTSTART:20260105T000000Z
DTEND:20260125T150000Z
DTSTAMP:20260104T160529Z
URL:https://gofm.org/events/the-wisdom-consecration-payer-and-fasting/
SUMMARY:The Wisdom Consecration (Payer and Fasting)
DESCRIPTION:🙏 Join us in 21 days of spiritual alignment and divine wisdo
 m.\n\n📅 Daily until at least 3:00 PM\, choose one of the following fast
 s:\n\n 	🛑 Absolute Fast: No food or drink\n 	💧 Liquid Fast: Water an
 d juices only\n 	🥗 Vegetarian Fast: No meats\, sweets\, or treats\n 	
 🚫 Social Media Fast: Abstain completely (except for ministry-related ac
 tivity)\n\n📖 “Give therefore thy servant an understanding heart... th
 at I may discern between good and bad.” — I Kings 3:9\n\nLet’s seek 
 wisdom together. #WisdomConsecration #GOFM #PrayerAndFasting #SpiritualHar
 vest\n\n
ATTACH;FMTTYPE=image/jpeg:https://gofm.org/wp-content/uploads/2026/01/2026
 -Consecration.png
CATEGORIES:Gates of Faith Ministries
END:VEVENT
END:VCALENDAR