BEGIN:VCALENDAR
VERSION:2.0
PRODID:-//wp-events-plugin.com//7.2.3.1//EN
BEGIN:VEVENT
UID:318@gofm.org
DTSTART:20250728T000000Z
DTEND:20250802T000000Z
DTSTAMP:20250312T004356Z
URL:https://gofm.org/events/th-holy-triad-convention-and-convocation/
SUMMARY:Th Holy Triad Convention and Convocation
DESCRIPTION:
END:VEVENT
END:VCALENDAR