BEGIN:VCALENDAR
VERSION:2.0
PRODID:-//wp-events-plugin.com//7.2.3.1//EN
BEGIN:VEVENT
UID:280@gofm.org
DTSTART:20250308T000000Z
DTEND:20250308T000000Z
DTSTAMP:20250309T200933Z
URL:https://gofm.org/events/rsd-ministerial-training-at-2nd-coming-ministr
 ies/
SUMMARY:RSD Ministerial Training at 2nd Coming Ministries
DESCRIPTION:
END:VEVENT
END:VCALENDAR