BEGIN:VCALENDAR
VERSION:2.0
PRODID:-//wp-events-plugin.com//7.2.3.1//EN
BEGIN:VEVENT
UID:287@gofm.org
DTSTART:20250330T000000Z
DTEND:20250330T000000Z
DTSTAMP:20250326T011538Z
URL:https://gofm.org/events/rsd-5th-sunday-union-service/
SUMMARY:RSD 5th Sunday Union Service
DESCRIPTION:
ATTACH;FMTTYPE=image/jpeg:https://gofm.org/wp-content/uploads/2025/03/9087
 668017695032061.jpg
CATEGORIES:Richmond South District
END:VEVENT
END:VCALENDAR