BEGIN:VCALENDAR
VERSION:2.0
PRODID:-//wp-events-plugin.com//7.2.3.1//EN
BEGIN:VEVENT
UID:313@gofm.org
DTSTART:20250629T000000Z
DTEND:20250629T000000Z
DTSTAMP:20250311T232342Z
URL:https://gofm.org/events/richmond-south-district-rsd-5th-sunday-union/
SUMMARY:Richmond South District (RSD) 5th Sunday Union
DESCRIPTION:
END:VEVENT
END:VCALENDAR