BEGIN:VCALENDAR
VERSION:2.0
PRODID:-//wp-events-plugin.com//7.2.3.1//EN
BEGIN:VEVENT
UID:275@gofm.org
DTSTART:20250217T000000Z
DTEND:20250217T000000Z
DTSTAMP:20250309T200005Z
URL:https://gofm.org/events/presidents-day/
SUMMARY:President's Day
DESCRIPTION:
END:VEVENT
END:VCALENDAR