BEGIN:VCALENDAR
VERSION:2.0
PRODID:-//wp-events-plugin.com//7.2.3.1//EN
BEGIN:VEVENT
UID:373@gofm.org
DTSTART:20250813T000000Z
DTEND:20250813T000000Z
DTSTAMP:20250601T155210Z
URL:https://gofm.org/events/pfla-summer-edition-closeout/
SUMMARY:PFLA (Summer Edition Closeout)
DESCRIPTION:
ATTACH;FMTTYPE=image/jpeg:https://gofm.org/wp-content/uploads/2025/06/PFLA
 -Logo.png
CATEGORIES:PFLA
END:VEVENT
END:VCALENDAR