BEGIN:VCALENDAR
VERSION:2.0
PRODID:-//wp-events-plugin.com//7.2.3.1//EN
BEGIN:VEVENT
UID:285@gofm.org
DTSTART;VALUE=DATE:20250322
DTEND;VALUE=DATE:20250325
DTSTAMP:20250316T155956Z
URL:https://gofm.org/events/pastor-to-visit-chairman-mark-ellis/
SUMMARY:Pastor to Visit Chairman Mark Ellis
DESCRIPTION:
CATEGORIES:Church of God in Christ
END:VEVENT
END:VCALENDAR