BEGIN:VCALENDAR
VERSION:2.0
PRODID:-//wp-events-plugin.com//7.2.3.1//EN
BEGIN:VEVENT
UID:332@gofm.org
DTSTART:20251005T170000Z
DTEND:20251005T190000Z
DTSTAMP:20250312T014515Z
URL:https://gofm.org/events/pastor-appreciation-service-for-russell-johnso
 n/
SUMMARY:Pastor Appreciation Service for Russell Johnson
DESCRIPTION:
CATEGORIES:Richmond South District
END:VEVENT
END:VCALENDAR