BEGIN:VCALENDAR
VERSION:2.0
PRODID:-//wp-events-plugin.com//7.2.3.1//EN
BEGIN:VEVENT
UID:331@gofm.org
DTSTART:20250926T000000Z
DTEND:20250927T000000Z
DTSTAMP:20250312T014135Z
URL:https://gofm.org/events/one-flesh-couples-retreat/
SUMMARY:One Flesh Couples Retreat
DESCRIPTION:
CATEGORIES:Gates of Faith Ministries
END:VEVENT
END:VCALENDAR