BEGIN:VCALENDAR
VERSION:2.0
PRODID:-//wp-events-plugin.com//7.2.3.1//EN
BEGIN:VEVENT
UID:302@gofm.org
DTSTART:20250526T000000Z
DTEND:20250526T000000Z
DTSTAMP:20250311T113537Z
URL:https://gofm.org/events/memorial-day/
SUMMARY:Memorial Day
DESCRIPTION:
END:VEVENT
END:VCALENDAR