BEGIN:VCALENDAR
VERSION:2.0
PRODID:-//wp-events-plugin.com//7.2.3.1//EN
BEGIN:VEVENT
UID:307@gofm.org
DTSTART:20250619T000000Z
DTEND:20250619T000000Z
DTSTAMP:20250601T155028Z
URL:https://gofm.org/events/juneteenth/
SUMMARY:Juneteenth
DESCRIPTION:
ATTACH;FMTTYPE=image/jpeg:https://gofm.org/wp-content/uploads/2025/06/June
 Teenth.jpg
CATEGORIES:Gates of Faith Ministries
END:VEVENT
END:VCALENDAR