BEGIN:VCALENDAR
VERSION:2.0
PRODID:-//wp-events-plugin.com//7.2.3.1//EN
BEGIN:VEVENT
UID:289@gofm.org
DTSTART:20250413T000000Z
DTEND:20250413T000000Z
DTSTAMP:20250311T112611Z
URL:https://gofm.org/events/intergenerational-day/
SUMMARY:Intergenerational Day
DESCRIPTION:
END:VEVENT
END:VCALENDAR