BEGIN:VCALENDAR
VERSION:2.0
PRODID:-//wp-events-plugin.com//7.2.3.1//EN
BEGIN:VEVENT
UID:314@gofm.org
DTSTART:20250704T000000Z
DTEND:20250704T000000Z
DTSTAMP:20250311T232422Z
URL:https://gofm.org/events/independence-day/
SUMMARY:Independence Day
DESCRIPTION:
END:VEVENT
END:VCALENDAR