BEGIN:VCALENDAR
VERSION:2.0
PRODID:-//wp-events-plugin.com//7.2.3.1//EN
BEGIN:VEVENT
UID:328@gofm.org
DTSTART:20250913T000000Z
DTEND:20250913T000000Z
DTSTAMP:20250312T013814Z
URL:https://gofm.org/events/gofm-fall-leadership-training/
SUMMARY:GOFM Fall Leadership Training
DESCRIPTION:
CATEGORIES:Gates of Faith Ministries
END:VEVENT
END:VCALENDAR