BEGIN:VCALENDAR
VERSION:2.0
PRODID:-//wp-events-plugin.com//7.2.3.1//EN
BEGIN:VEVENT
UID:306@gofm.org
DTSTART:20250615T000000Z
DTEND:20250615T000000Z
DTSTAMP:20250311T231627Z
URL:https://gofm.org/events/fathers-day/
SUMMARY:Father's Day
DESCRIPTION:
END:VEVENT
END:VCALENDAR