BEGIN:VCALENDAR
VERSION:2.0
PRODID:-//wp-events-plugin.com//7.2.3.1//EN
BEGIN:VEVENT
UID:270@gofm.org
DTSTART:20250202T000000Z
DTEND:20250202T000000Z
DTSTAMP:20250309T194735Z
URL:https://gofm.org/events/daughters-of-the-kingdom/
SUMMARY:Daughters of the Kingdom
DESCRIPTION:
END:VEVENT
END:VCALENDAR