BEGIN:VCALENDAR
VERSION:2.0
PRODID:-//wp-events-plugin.com//7.2.3.1//EN
BEGIN:VEVENT
UID:310@gofm.org
DTSTART:20250627T000000Z
DTEND:20250627T000000Z
DTSTAMP:20250311T232149Z
URL:https://gofm.org/events/cross-bearers-conference-domination-concert/
SUMMARY:Cross Bearers Conference - Domination Concert
DESCRIPTION:
END:VEVENT
END:VCALENDAR