BEGIN:VCALENDAR
VERSION:2.0
PRODID:-//wp-events-plugin.com//7.2.3.1//EN
BEGIN:VEVENT
UID:265@gofm.org
DTSTART:20250113T000000Z
DTEND:20250116T000000Z
DTSTAMP:20250309T194113Z
URL:https://gofm.org/events/cogic-leadership-conference/
SUMMARY:COGIC Leadership Conference
DESCRIPTION:
END:VEVENT
END:VCALENDAR