BEGIN:VCALENDAR
VERSION:2.0
PRODID:-//wp-events-plugin.com//7.2.3.1//EN
BEGIN:VEVENT
UID:278@gofm.org
DTSTART:20250223T101500Z
DTEND:20250223T120000Z
DTSTAMP:20250309T200442Z
URL:https://gofm.org/events/black-history-month-program/
SUMMARY:Black History Month Program
DESCRIPTION:
END:VEVENT
END:VCALENDAR