BEGIN:VCALENDAR
VERSION:2.0
PRODID:-//wp-events-plugin.com//7.2.3.1//EN
BEGIN:VEVENT
UID:594@gofm.org
DTSTART:20260706T000000Z
DTEND:20260710T000000Z
DTSTAMP:20260118T161031Z
URL:https://gofm.org/events/auxiliaries-in-ministry-convention-aim/
SUMMARY:Auxiliaries In Ministry Convention (AIM)
DESCRIPTION:Auxiliaries In Ministry Convention\nJuly 6-10\, 2026\nBaltimore
 \, Maryland
ATTACH;FMTTYPE=image/jpeg:https://gofm.org/wp-content/uploads/2025/01/Chur
 ch_of_God_in_Christ_seal-1.png
CATEGORIES:Church of God in Christ
END:VEVENT
END:VCALENDAR