BEGIN:VCALENDAR
VERSION:2.0
PRODID:-//wp-events-plugin.com//7.2.3.1//EN
BEGIN:VEVENT
UID:325@gofm.org
DTSTART:20250831T000000Z
DTEND:20250831T000000Z
DTSTAMP:20250312T005128Z
URL:https://gofm.org/events/5th-sunday-union-service-rsd/
SUMMARY:5th Sunday Union Service - RSD
DESCRIPTION:
END:VEVENT
END:VCALENDAR