BEGIN:VCALENDAR
VERSION:2.0
PRODID:-//wp-events-plugin.com//7.2.3.1//EN
BEGIN:VEVENT
UID:268@gofm.org
DTSTART:20250102T000000Z
DTEND:20250122T000000Z
DTSTAMP:20250309T194456Z
URL:https://gofm.org/events/21-day-prayer-and-consecration/
SUMMARY:21 Day Prayer and Consecration
DESCRIPTION:
END:VEVENT
END:VCALENDAR